BEGIN:VCALENDAR
VERSION:2.0
PRODID:-//WestsideHQ - ECPv6.15.16.1//NONSGML v1.0//EN
CALSCALE:GREGORIAN
METHOD:PUBLISH
X-ORIGINAL-URL:https://www.westsidehq.org.au
X-WR-CALDESC:Events for WestsideHQ
REFRESH-INTERVAL;VALUE=DURATION:PT1H
X-Robots-Tag:noindex
X-PUBLISHED-TTL:PT1H
BEGIN:VTIMEZONE
TZID:Australia/Brisbane
BEGIN:STANDARD
TZOFFSETFROM:+1000
TZOFFSETTO:+1000
TZNAME:AEST
DTSTART:20240101T000000
END:STANDARD
END:VTIMEZONE
BEGIN:VEVENT
DTSTART;TZID=Australia/Brisbane:20250425T203000
DTEND;TZID=Australia/Brisbane:20260425T220000
DTSTAMP:20260420T203526
CREATED:20250101T052838Z
LAST-MODIFIED:20251230T061442Z
UID:10023342-1745613000-1777154400@www.westsidehq.org.au
SUMMARY:Bucket of Bucks
DESCRIPTION:
URL:https://www.westsidehq.org.au/event/bucket-of-bucks/2025-04-25/
CATEGORIES:Friday,Club Promotions
ATTACH;FMTTYPE=image/jpeg:https://www.westsidehq.org.au/wp-content/uploads/2025/01/Bucket-of-Buck-TVL-WestsideHQ.jpg
END:VEVENT
BEGIN:VEVENT
DTSTART;VALUE=DATE:20260420
DTEND;VALUE=DATE:20260421
DTSTAMP:20260420T203526
CREATED:20240618T011022Z
LAST-MODIFIED:20260319T055900Z
UID:10015100-1776643200-1776729599@www.westsidehq.org.au
SUMMARY:Double Points
DESCRIPTION:
URL:https://www.westsidehq.org.au/event/double-points-3-3/2026-04-20/
CATEGORIES:Monday,Tuesday,Club Promotions,Gaming Promotions
ATTACH;FMTTYPE=image/jpeg:https://www.westsidehq.org.au/wp-content/uploads/2025/07/2025-Double-Points-TV-Westside-HQ-scaled.jpg
END:VEVENT
BEGIN:VEVENT
DTSTART;TZID=Australia/Brisbane:20260420T183000
DTEND;TZID=Australia/Brisbane:20260420T210000
DTSTAMP:20260420T203526
CREATED:20240123T001017Z
LAST-MODIFIED:20260217T044101Z
UID:10009968-1776709800-1776718800@www.westsidehq.org.au
SUMMARY:Free Trivia
DESCRIPTION:
URL:https://www.westsidehq.org.au/event/question-marks-trivia/2026-04-20/
CATEGORIES:Monday,Club Promotions,Club Activities
ATTACH;FMTTYPE=image/jpeg:https://www.westsidehq.org.au/wp-content/uploads/2023/01/V2-Question-Marks-Trivia-TV-Westside-HQ.jpg
END:VEVENT
BEGIN:VEVENT
DTSTART;TZID=Australia/Brisbane:20260421T100000
DTEND;TZID=Australia/Brisbane:20260421T130000
DTSTAMP:20260420T203526
CREATED:20250417T005747Z
LAST-MODIFIED:20260120T013542Z
UID:10022419-1776765600-1776776400@www.westsidehq.org.au
SUMMARY:Bingo
DESCRIPTION:
URL:https://www.westsidehq.org.au/event/bingo/2026-04-21/
CATEGORIES:Tuesday,Club Promotions
ATTACH;FMTTYPE=image/jpeg:https://www.westsidehq.org.au/wp-content/uploads/2025/04/Bingo-Tuesday-Update-October-2025-TVL-Westside-HQ-scaled.jpg
END:VEVENT
BEGIN:VEVENT
DTSTART;TZID=Australia/Brisbane:20260423T190000
DTEND;TZID=Australia/Brisbane:20260423T210000
DTSTAMP:20260420T203526
CREATED:20230928T093033Z
LAST-MODIFIED:20231020T040049Z
UID:10006805-1776970800-1776978000@www.westsidehq.org.au
SUMMARY:Hot Seat
DESCRIPTION:
URL:https://www.westsidehq.org.au/event/hot-seat-3/2026-04-23/
CATEGORIES:Thursday,Club Promotions
ATTACH;FMTTYPE=image/jpeg:https://www.westsidehq.org.au/wp-content/uploads/2021/07/2023-Hot-Seat-TV-Large-Westside-HQ-scaled.jpg
END:VEVENT
BEGIN:VEVENT
DTSTART;VALUE=DATE:20260424
DTEND;VALUE=DATE:20260425
DTSTAMP:20260420T203526
CREATED:20210708T053512Z
LAST-MODIFIED:20250626T003026Z
UID:10007716-1776988800-1777075199@www.westsidehq.org.au
SUMMARY:Cash Splash
DESCRIPTION:
URL:https://www.westsidehq.org.au/event/cash-splash/2026-04-24/
CATEGORIES:Friday,Club Promotions
ATTACH;FMTTYPE=image/jpeg:https://www.westsidehq.org.au/wp-content/uploads/2021/07/Cash-Splash-TVL-WestsideHQ.jpg
END:VEVENT
BEGIN:VEVENT
DTSTART;VALUE=DATE:20260424
DTEND;VALUE=DATE:20260425
DTSTAMP:20260420T203526
CREATED:20220628T050832Z
LAST-MODIFIED:20230829T071746Z
UID:10003379-1776988800-1777075199@www.westsidehq.org.au
SUMMARY:HQ Members Draw
DESCRIPTION:
URL:https://www.westsidehq.org.au/event/hq-members-draw/2026-04-24/
CATEGORIES:Friday,Club Promotions
ATTACH;FMTTYPE=image/jpeg:https://www.westsidehq.org.au/wp-content/uploads/2022/06/Members-Draw-FB-Event-Westside-HQ-scaled.jpg
END:VEVENT
BEGIN:VEVENT
DTSTART;TZID=Australia/Brisbane:20260424T170000
DTEND;TZID=Australia/Brisbane:20260424T190000
DTSTAMP:20260420T203526
CREATED:20210708T053001Z
LAST-MODIFIED:20250818T001932Z
UID:10003118-1777050000-1777057200@www.westsidehq.org.au
SUMMARY:Friday Prize Night
DESCRIPTION:
URL:https://www.westsidehq.org.au/event/prize-night/2026-04-24/
CATEGORIES:Friday,Club Promotions
ATTACH;FMTTYPE=image/jpeg:https://www.westsidehq.org.au/wp-content/uploads/2020/10/Friday_Prize_Night_Facebook_Event.jpg
END:VEVENT
BEGIN:VEVENT
DTSTART;TZID=Australia/Brisbane:20260424T183000
DTEND;TZID=Australia/Brisbane:20260424T223000
DTSTAMP:20260420T203526
CREATED:20240729T072638Z
LAST-MODIFIED:20260326T034544Z
UID:10017432-1777055400-1777069800@www.westsidehq.org.au
SUMMARY:Live Music
DESCRIPTION:
URL:https://www.westsidehq.org.au/event/live-music/2026-04-24/
CATEGORIES:Friday,Club Promotions
ATTACH;FMTTYPE=image/png:https://www.westsidehq.org.au/wp-content/uploads/2024/07/7pm-1030pm-2.png
END:VEVENT
BEGIN:VEVENT
DTSTART;TZID=Australia/Brisbane:20260424T183000
DTEND;TZID=Australia/Brisbane:20260424T223000
DTSTAMP:20260420T203526
CREATED:20260316T071542Z
LAST-MODIFIED:20260316T071542Z
UID:10026204-1777055400-1777069800@www.westsidehq.org.au
SUMMARY:Jared Alexander
DESCRIPTION:
URL:https://www.westsidehq.org.au/event/jared-alexander-2/
CATEGORIES:Club Promotions,Music
ATTACH;FMTTYPE=image/jpeg:https://www.westsidehq.org.au/wp-content/uploads/2026/01/jared-alexander-e1767937343719.jpg
END:VEVENT
BEGIN:VEVENT
DTSTART;VALUE=DATE:20260425
DTEND;VALUE=DATE:20260426
DTSTAMP:20260420T203526
CREATED:20260409T052924Z
LAST-MODIFIED:20260419T232635Z
UID:10026306-1777075200-1777161599@www.westsidehq.org.au
SUMMARY:ANZAC Day
DESCRIPTION:
URL:https://www.westsidehq.org.au/event/anzac-day-3/
CATEGORIES:Shows,Special Events
ATTACH;FMTTYPE=image/jpeg:https://www.westsidehq.org.au/wp-content/uploads/2026/04/23032026060324-WH-174ANZACDay20267-Instagram1080x1080.jpg
END:VEVENT
BEGIN:VEVENT
DTSTART;TZID=Australia/Brisbane:20260425T140000
DTEND;TZID=Australia/Brisbane:20260425T160000
DTSTAMP:20260420T203526
CREATED:20231020T035749Z
LAST-MODIFIED:20240423T071550Z
UID:10006542-1777125600-1777132800@www.westsidehq.org.au
SUMMARY:Cash Climb
DESCRIPTION:
URL:https://www.westsidehq.org.au/event/cash-climb-3/2026-04-25/
ATTACH;FMTTYPE=image/jpeg:https://www.westsidehq.org.au/wp-content/uploads/2023/05/Cash-Climb-TV-Westside-HQ.jpg
END:VEVENT
BEGIN:VEVENT
DTSTART;TZID=Australia/Brisbane:20260425T140000
DTEND;TZID=Australia/Brisbane:20260425T160000
DTSTAMP:20260420T203526
CREATED:20250101T055329Z
LAST-MODIFIED:20251230T060708Z
UID:10023076-1777125600-1777132800@www.westsidehq.org.au
SUMMARY:Flip Flop Fortune
DESCRIPTION:
URL:https://www.westsidehq.org.au/event/flip-flop-fortune/2026-04-25/
CATEGORIES:Saturday,Club Promotions
ATTACH;FMTTYPE=image/jpeg:https://www.westsidehq.org.au/wp-content/uploads/2025/01/15122025051153-FlipFlopFortune-WestsideHQ-TV.jpg
END:VEVENT
BEGIN:VEVENT
DTSTART;TZID=Australia/Brisbane:20260425T193000
DTEND;TZID=Australia/Brisbane:20260425T210000
DTSTAMP:20260420T203526
CREATED:20250101T054732Z
LAST-MODIFIED:20251230T062948Z
UID:10023766-1777145400-1777150800@www.westsidehq.org.au
SUMMARY:Beat the Heat
DESCRIPTION:
URL:https://www.westsidehq.org.au/event/beat-the-heat/2026-04-25/
CATEGORIES:Saturday,Club Promotions
ATTACH;FMTTYPE=image/jpeg:https://www.westsidehq.org.au/wp-content/uploads/2025/01/Beat-the-Heat-Poster-TVL-WestsideHQ-1.jpg
END:VEVENT
BEGIN:VEVENT
DTSTART;TZID=Australia/Brisbane:20260425T203000
DTEND;TZID=Australia/Brisbane:20260425T203000
DTSTAMP:20260420T203526
CREATED:20240430T071722Z
LAST-MODIFIED:20240501T001513Z
UID:10013662-1777149000-1777149000@www.westsidehq.org.au
SUMMARY:Gaming Members Draw
DESCRIPTION:
URL:https://www.westsidehq.org.au/event/gaming-members-draw/2026-04-25/
CATEGORIES:Saturday,Club Promotions
ATTACH;FMTTYPE=image/jpeg:https://www.westsidehq.org.au/wp-content/uploads/2024/04/Gaming-Members-Draw-TV-WestsideHQ-scaled.jpg
END:VEVENT
BEGIN:VEVENT
DTSTART;TZID=Australia/Brisbane:20260426T080000
DTEND;TZID=Australia/Brisbane:20260426T170000
DTSTAMP:20260420T203526
CREATED:20240430T071324Z
LAST-MODIFIED:20240430T071324Z
UID:10013401-1777190400-1777222800@www.westsidehq.org.au
SUMMARY:Sweet Treat Sunday
DESCRIPTION:
URL:https://www.westsidehq.org.au/event/sweet-treat-sunday/2026-04-26/
CATEGORIES:Sunday,Club Promotions
ATTACH;FMTTYPE=image/jpeg:https://www.westsidehq.org.au/wp-content/uploads/2024/04/Sweet-Treat-Sunday-TV-Westside-HQ-scaled.jpg
END:VEVENT
BEGIN:VEVENT
DTSTART;TZID=Australia/Brisbane:20260426T113000
DTEND;TZID=Australia/Brisbane:20260426T133000
DTSTAMP:20260420T203526
CREATED:20250818T001451Z
LAST-MODIFIED:20250818T002040Z
UID:10025054-1777203000-1777210200@www.westsidehq.org.au
SUMMARY:Monthly Sunday Raffle
DESCRIPTION:
URL:https://www.westsidehq.org.au/event/monthly-sunday-raffle/2026-04-26/
CATEGORIES:Sunday,Club Promotions,Club Activities
ATTACH;FMTTYPE=image/jpeg:https://www.westsidehq.org.au/wp-content/uploads/2025/08/Landscape-TV-3.jpg
END:VEVENT
BEGIN:VEVENT
DTSTART;TZID=Australia/Brisbane:20260426T120000
DTEND;TZID=Australia/Brisbane:20260426T160000
DTSTAMP:20260420T203526
CREATED:20241021T020922Z
LAST-MODIFIED:20250817T234554Z
UID:10024504-1777204800-1777219200@www.westsidehq.org.au
SUMMARY:Sunday Sounds
DESCRIPTION:
URL:https://www.westsidehq.org.au/event/sunday-sounds-3/2026-04-26/
CATEGORIES:Sunday,Club Promotions
ATTACH;FMTTYPE=image/jpeg:https://www.westsidehq.org.au/wp-content/uploads/2024/10/2025-Sunday-Sounds-Westside-HQ-1-scaled.jpg
END:VEVENT
BEGIN:VEVENT
DTSTART;TZID=Australia/Brisbane:20260426T120000
DTEND;TZID=Australia/Brisbane:20260426T160000
DTSTAMP:20260420T203526
CREATED:20260316T072057Z
LAST-MODIFIED:20260316T072840Z
UID:10026208-1777204800-1777219200@www.westsidehq.org.au
SUMMARY:Sunday Sounds with Mono
DESCRIPTION:
URL:https://www.westsidehq.org.au/event/sunday-sounds-with-mono-8/
CATEGORIES:Club Promotions,Music
ATTACH;FMTTYPE=image/jpeg:https://www.westsidehq.org.au/wp-content/uploads/2024/06/Mono-366-scaled-e1719980167424.jpg
END:VEVENT
BEGIN:VEVENT
DTSTART;TZID=Australia/Brisbane:20260426T140000
DTEND;TZID=Australia/Brisbane:20260426T160000
DTSTAMP:20260420T203526
CREATED:20250416T043850Z
LAST-MODIFIED:20250416T043850Z
UID:10022154-1777212000-1777219200@www.westsidehq.org.au
SUMMARY:Sweet Spot
DESCRIPTION:
URL:https://www.westsidehq.org.au/event/sweet-spot/2026-04-26/
CATEGORIES:Sunday,Club Promotions
ATTACH;FMTTYPE=image/jpeg:https://www.westsidehq.org.au/wp-content/uploads/2025/01/Updated-Sweet-Spot-TVL-WestsideHQ.jpg
END:VEVENT
BEGIN:VEVENT
DTSTART;TZID=Australia/Brisbane:20260426T143000
DTEND;TZID=Australia/Brisbane:20260426T153000
DTSTAMP:20260420T203526
CREATED:20230110T050440Z
LAST-MODIFIED:20240423T071753Z
UID:10004431-1777213800-1777217400@www.westsidehq.org.au
SUMMARY:Lady Luck
DESCRIPTION:
URL:https://www.westsidehq.org.au/event/lady-luck/2026-04-26/
ATTACH;FMTTYPE=image/jpeg:https://www.westsidehq.org.au/wp-content/uploads/2023/01/Lady-Luck-TV-Westside-HQ.jpg
END:VEVENT
BEGIN:VEVENT
DTSTART;TZID=Australia/Brisbane:20260427T190000
DTEND;TZID=Australia/Brisbane:20260427T203000
DTSTAMP:20260420T203526
CREATED:20230831T011050Z
LAST-MODIFIED:20240122T235538Z
UID:10003640-1777316400-1777321800@www.westsidehq.org.au
SUMMARY:Monday Moneybags
DESCRIPTION:
URL:https://www.westsidehq.org.au/event/monday-moneybags/2026-04-27/
CATEGORIES:Gaming Promotions
ATTACH;FMTTYPE=image/jpeg:https://www.westsidehq.org.au/wp-content/uploads/2023/08/Monday-Moneybags-TV-Westside-HQ-scaled.jpg
END:VEVENT
END:VCALENDAR