BEGIN:VCALENDAR
VERSION:2.0
PRODID:-//WestsideHQ - ECPv6.15.16.1//NONSGML v1.0//EN
CALSCALE:GREGORIAN
METHOD:PUBLISH
X-WR-CALNAME:WestsideHQ
X-ORIGINAL-URL:https://www.westsidehq.org.au
X-WR-CALDESC:Events for WestsideHQ
REFRESH-INTERVAL;VALUE=DURATION:PT1H
X-Robots-Tag:noindex
X-PUBLISHED-TTL:PT1H
BEGIN:VTIMEZONE
TZID:Australia/Brisbane
BEGIN:STANDARD
TZOFFSETFROM:+1000
TZOFFSETTO:+1000
TZNAME:AEST
DTSTART:20250101T000000
END:STANDARD
END:VTIMEZONE
BEGIN:VEVENT
DTSTART;VALUE=DATE:20260314
DTEND;VALUE=DATE:20260318
DTSTAMP:20260420T222310
CREATED:20260311T020024Z
LAST-MODIFIED:20260311T020259Z
UID:10026199-1773446400-1773791999@www.westsidehq.org.au
SUMMARY:St Patrick's Day
DESCRIPTION:
URL:https://www.westsidehq.org.au/event/st-patricks-day/
CATEGORIES:Club Promotions,Shows,Special Events
ATTACH;FMTTYPE=image/jpeg:https://www.westsidehq.org.au/wp-content/uploads/2026/03/20022026012251-WestsideHQ-StPaddysDay-IG.jpg
END:VEVENT
BEGIN:VEVENT
DTSTART;VALUE=DATE:20260329
DTEND;VALUE=DATE:20260406
DTSTAMP:20260420T222310
CREATED:20260311T021429Z
LAST-MODIFIED:20260311T021429Z
UID:10026200-1774742400-1775433599@www.westsidehq.org.au
SUMMARY:Easter Egg-stravaganza
DESCRIPTION:
URL:https://www.westsidehq.org.au/event/easter-egg-stravaganza/
CATEGORIES:Club Promotions,Shows,Special Events
ATTACH;FMTTYPE=image/jpeg:https://www.westsidehq.org.au/wp-content/uploads/2026/03/10032026065809-WestSideHQ-EasterEgg-stravaganza2026_Instagram.jpg
END:VEVENT
END:VCALENDAR