BEGIN:VCALENDAR
VERSION:2.0
PRODID:-//WestsideHQ - ECPv6.15.16.1//NONSGML v1.0//EN
CALSCALE:GREGORIAN
METHOD:PUBLISH
X-WR-CALNAME:WestsideHQ
X-ORIGINAL-URL:https://www.westsidehq.org.au
X-WR-CALDESC:Events for WestsideHQ
REFRESH-INTERVAL;VALUE=DURATION:PT1H
X-Robots-Tag:noindex
X-PUBLISHED-TTL:PT1H
BEGIN:VTIMEZONE
TZID:Australia/Brisbane
BEGIN:STANDARD
TZOFFSETFROM:+1000
TZOFFSETTO:+1000
TZNAME:AEST
DTSTART:20250101T000000
END:STANDARD
END:VTIMEZONE
BEGIN:VEVENT
DTSTART;TZID=Australia/Brisbane:20260601T183000
DTEND;TZID=Australia/Brisbane:20260601T210000
DTSTAMP:20260424T234103
CREATED:20240123T001017Z
LAST-MODIFIED:20260217T044101Z
UID:10009974-1780338600-1780347600@www.westsidehq.org.au
SUMMARY:Free Trivia
DESCRIPTION:
URL:https://www.westsidehq.org.au/event/question-marks-trivia/2026-06-01/
CATEGORIES:Monday,Club Promotions,Club Activities
ATTACH;FMTTYPE=image/jpeg:https://www.westsidehq.org.au/wp-content/uploads/2023/01/V2-Question-Marks-Trivia-TV-Westside-HQ.jpg
END:VEVENT
BEGIN:VEVENT
DTSTART;TZID=Australia/Brisbane:20260608T183000
DTEND;TZID=Australia/Brisbane:20260608T210000
DTSTAMP:20260424T234103
CREATED:20240123T001017Z
LAST-MODIFIED:20260217T044101Z
UID:10009975-1780943400-1780952400@www.westsidehq.org.au
SUMMARY:Free Trivia
DESCRIPTION:
URL:https://www.westsidehq.org.au/event/question-marks-trivia/2026-06-08/
CATEGORIES:Monday,Club Promotions,Club Activities
ATTACH;FMTTYPE=image/jpeg:https://www.westsidehq.org.au/wp-content/uploads/2023/01/V2-Question-Marks-Trivia-TV-Westside-HQ.jpg
END:VEVENT
BEGIN:VEVENT
DTSTART;TZID=Australia/Brisbane:20260615T183000
DTEND;TZID=Australia/Brisbane:20260615T210000
DTSTAMP:20260424T234103
CREATED:20240123T001017Z
LAST-MODIFIED:20260217T044101Z
UID:10009976-1781548200-1781557200@www.westsidehq.org.au
SUMMARY:Free Trivia
DESCRIPTION:
URL:https://www.westsidehq.org.au/event/question-marks-trivia/2026-06-15/
CATEGORIES:Monday,Club Promotions,Club Activities
ATTACH;FMTTYPE=image/jpeg:https://www.westsidehq.org.au/wp-content/uploads/2023/01/V2-Question-Marks-Trivia-TV-Westside-HQ.jpg
END:VEVENT
BEGIN:VEVENT
DTSTART;TZID=Australia/Brisbane:20260622T183000
DTEND;TZID=Australia/Brisbane:20260622T210000
DTSTAMP:20260424T234103
CREATED:20240123T001017Z
LAST-MODIFIED:20260217T044101Z
UID:10009977-1782153000-1782162000@www.westsidehq.org.au
SUMMARY:Free Trivia
DESCRIPTION:
URL:https://www.westsidehq.org.au/event/question-marks-trivia/2026-06-22/
CATEGORIES:Monday,Club Promotions,Club Activities
ATTACH;FMTTYPE=image/jpeg:https://www.westsidehq.org.au/wp-content/uploads/2023/01/V2-Question-Marks-Trivia-TV-Westside-HQ.jpg
END:VEVENT
BEGIN:VEVENT
DTSTART;TZID=Australia/Brisbane:20260628T113000
DTEND;TZID=Australia/Brisbane:20260628T133000
DTSTAMP:20260424T234103
CREATED:20250818T001451Z
LAST-MODIFIED:20250818T002040Z
UID:10025056-1782646200-1782653400@www.westsidehq.org.au
SUMMARY:Monthly Sunday Raffle
DESCRIPTION:
URL:https://www.westsidehq.org.au/event/monthly-sunday-raffle/2026-06-28/
CATEGORIES:Sunday,Club Promotions,Club Activities
ATTACH;FMTTYPE=image/jpeg:https://www.westsidehq.org.au/wp-content/uploads/2025/08/Landscape-TV-3.jpg
END:VEVENT
BEGIN:VEVENT
DTSTART;TZID=Australia/Brisbane:20260629T183000
DTEND;TZID=Australia/Brisbane:20260629T210000
DTSTAMP:20260424T234103
CREATED:20240123T001017Z
LAST-MODIFIED:20260217T044101Z
UID:10009978-1782757800-1782766800@www.westsidehq.org.au
SUMMARY:Free Trivia
DESCRIPTION:
URL:https://www.westsidehq.org.au/event/question-marks-trivia/2026-06-29/
CATEGORIES:Monday,Club Promotions,Club Activities
ATTACH;FMTTYPE=image/jpeg:https://www.westsidehq.org.au/wp-content/uploads/2023/01/V2-Question-Marks-Trivia-TV-Westside-HQ.jpg
END:VEVENT
END:VCALENDAR