BEGIN:VCALENDAR
VERSION:2.0
PRODID:-//WestsideHQ - ECPv6.15.16.1//NONSGML v1.0//EN
CALSCALE:GREGORIAN
METHOD:PUBLISH
X-ORIGINAL-URL:https://www.westsidehq.org.au
X-WR-CALDESC:Events for WestsideHQ
REFRESH-INTERVAL;VALUE=DURATION:PT1H
X-Robots-Tag:noindex
X-PUBLISHED-TTL:PT1H
BEGIN:VTIMEZONE
TZID:Australia/Brisbane
BEGIN:STANDARD
TZOFFSETFROM:+1000
TZOFFSETTO:+1000
TZNAME:AEST
DTSTART:20250101T000000
END:STANDARD
END:VTIMEZONE
BEGIN:VEVENT
DTSTART;TZID=Australia/Brisbane:20260504T183000
DTEND;TZID=Australia/Brisbane:20260504T210000
DTSTAMP:20260424T221222
CREATED:20240123T001017Z
LAST-MODIFIED:20260217T044101Z
UID:10009970-1777919400-1777928400@www.westsidehq.org.au
SUMMARY:Free Trivia
DESCRIPTION:
URL:https://www.westsidehq.org.au/event/question-marks-trivia/2026-05-04/
CATEGORIES:Monday,Club Promotions,Club Activities
ATTACH;FMTTYPE=image/jpeg:https://www.westsidehq.org.au/wp-content/uploads/2023/01/V2-Question-Marks-Trivia-TV-Westside-HQ.jpg
END:VEVENT
BEGIN:VEVENT
DTSTART;TZID=Australia/Brisbane:20260511T183000
DTEND;TZID=Australia/Brisbane:20260511T210000
DTSTAMP:20260424T221222
CREATED:20240123T001017Z
LAST-MODIFIED:20260217T044101Z
UID:10009971-1778524200-1778533200@www.westsidehq.org.au
SUMMARY:Free Trivia
DESCRIPTION:
URL:https://www.westsidehq.org.au/event/question-marks-trivia/2026-05-11/
CATEGORIES:Monday,Club Promotions,Club Activities
ATTACH;FMTTYPE=image/jpeg:https://www.westsidehq.org.au/wp-content/uploads/2023/01/V2-Question-Marks-Trivia-TV-Westside-HQ.jpg
END:VEVENT
BEGIN:VEVENT
DTSTART;TZID=Australia/Brisbane:20260518T183000
DTEND;TZID=Australia/Brisbane:20260518T210000
DTSTAMP:20260424T221222
CREATED:20240123T001017Z
LAST-MODIFIED:20260217T044101Z
UID:10009972-1779129000-1779138000@www.westsidehq.org.au
SUMMARY:Free Trivia
DESCRIPTION:
URL:https://www.westsidehq.org.au/event/question-marks-trivia/2026-05-18/
CATEGORIES:Monday,Club Promotions,Club Activities
ATTACH;FMTTYPE=image/jpeg:https://www.westsidehq.org.au/wp-content/uploads/2023/01/V2-Question-Marks-Trivia-TV-Westside-HQ.jpg
END:VEVENT
BEGIN:VEVENT
DTSTART;TZID=Australia/Brisbane:20260525T183000
DTEND;TZID=Australia/Brisbane:20260525T210000
DTSTAMP:20260424T221222
CREATED:20240123T001017Z
LAST-MODIFIED:20260217T044101Z
UID:10009973-1779733800-1779742800@www.westsidehq.org.au
SUMMARY:Free Trivia
DESCRIPTION:
URL:https://www.westsidehq.org.au/event/question-marks-trivia/2026-05-25/
CATEGORIES:Monday,Club Promotions,Club Activities
ATTACH;FMTTYPE=image/jpeg:https://www.westsidehq.org.au/wp-content/uploads/2023/01/V2-Question-Marks-Trivia-TV-Westside-HQ.jpg
END:VEVENT
BEGIN:VEVENT
DTSTART;TZID=Australia/Brisbane:20260531T113000
DTEND;TZID=Australia/Brisbane:20260531T133000
DTSTAMP:20260424T221222
CREATED:20250818T001451Z
LAST-MODIFIED:20250818T002040Z
UID:10025055-1780227000-1780234200@www.westsidehq.org.au
SUMMARY:Monthly Sunday Raffle
DESCRIPTION:
URL:https://www.westsidehq.org.au/event/monthly-sunday-raffle/2026-05-31/
CATEGORIES:Sunday,Club Promotions,Club Activities
ATTACH;FMTTYPE=image/jpeg:https://www.westsidehq.org.au/wp-content/uploads/2025/08/Landscape-TV-3.jpg
END:VEVENT
END:VCALENDAR